BEGIN:VCALENDAR
VERSION:2.0
PRODID:-//Plone.org//NONSGML plone.app.event//EN
X-WR-TIMEZONE:Europe/Rome
BEGIN:VEVENT
SUMMARY:Seminari di Oncologia 2013
DTSTART;VALUE=DATE-TIME:20130129T130000Z
DTEND;VALUE=DATE-TIME:20130129T170000Z
DTSTAMP;VALUE=DATE-TIME:20260421T025905Z
UID:ad421dd2a65f001985597ad977e33eac@127.0.0.1:8095
CATEGORIES:Aggiornamento
CONTACT:051 7190132\, formazione@ant.it
CREATED;VALUE=DATE-TIME:20130122T092716Z
DESCRIPTION:Aggiornamenti in nutrizione domiciliare: utilizzo di un protoc
 ollo nutrizionale del paziente malnutrito. Un corso di aggiornamento della
  Fondazione ANT.
LAST-MODIFIED;VALUE=DATE-TIME:20130904T082232Z
LOCATION:Bologna - Aula Magna Istituto delle Scienze Oncologiche\, della S
 olidarietà e del Volontariato - Via Jacopo di Paolo 36
URL:https://www.ausl.bologna.it/eventi/archivio/auslevent.2013-01-22.35377
 58294
END:VEVENT
END:VCALENDAR
