BEGIN:VCALENDAR
VERSION:2.0
PRODID:-//Plone.org//NONSGML plone.app.event//EN
X-WR-TIMEZONE:Europe/Rome
BEGIN:VEVENT
SUMMARY:L’approccio dei servizi socio‐sanitari alla pratica delle muti
 lazioni genitali femminili tra modello terapeutico\, preventivo e salutoge
 nico 
DTSTART;VALUE=DATE-TIME:20130206T073000Z
DTEND;VALUE=DATE-TIME:20130206T114500Z
DTSTAMP;VALUE=DATE-TIME:20260420T075439Z
UID:b0632b2640ac9ea3b654d3c77d074401@127.0.0.1:8095
CATEGORIES:Presentazione
CONTACT:ilaria.simonelli@ausl.bologna.it
CREATED;VALUE=DATE-TIME:20130121T135733Z
DESCRIPTION:Presentazione dei risultati della ricerca regionale
LAST-MODIFIED;VALUE=DATE-TIME:20130904T082229Z
LOCATION:Bologna\, Terza Torre\, Regione Emilia-Romagna Viale della Fiera\
 , 8
URL:https://www.ausl.bologna.it/eventi/archivio/auslevent.2013-01-21.98367
 79168
END:VEVENT
END:VCALENDAR
