BEGIN:VCALENDAR
VERSION:2.0
PRODID:-//Plone.org//NONSGML plone.app.event//EN
X-WR-TIMEZONE:Europe/Rome
BEGIN:VEVENT
SUMMARY:Arte e Scienza in Piazza 2013
DTSTART;VALUE=DATE-TIME:20130119T080000Z
DTEND;VALUE=DATE-TIME:20130204T163000Z
DTSTAMP;VALUE=DATE-TIME:20260421T025912Z
UID:21faf0e1b8e8aa6879a41c17635af27a@127.0.0.1:8095
CREATED;VALUE=DATE-TIME:20130117T132407Z
DESCRIPTION:L'Azienda USL è presente con L’Energia nel piatto\, il Labo
 ratorio didattico per ragazzi dagli 8 ai 13 anni\, al Voltone del Podestà
  in Piazza Re Enzo
LAST-MODIFIED;VALUE=DATE-TIME:20130904T082220Z
LOCATION:Bologna - Laboratorio Start\, Voltone del Podestà in Piazza Re E
 nzo 
URL:https://www.ausl.bologna.it/eventi/archivio/auslevent.2013-01-17.22863
 30602
END:VEVENT
END:VCALENDAR
