BEGIN:VCALENDAR
VERSION:2.0
PRODID:-//Plone.org//NONSGML plone.app.event//EN
X-WR-TIMEZONE:Europe/Rome
BEGIN:VEVENT
SUMMARY:Inaugurazione della Casa della Salute di Sasso Marconi
DTSTART;VALUE=DATE-TIME:20130119T100000Z
DTEND;VALUE=DATE-TIME:20130119T123000Z
DTSTAMP;VALUE=DATE-TIME:20260421T025728Z
UID:3e8d486af330ea2dc6a58b79ab814837@127.0.0.1:8095
CATEGORIES:Inaugurazione
CREATED;VALUE=DATE-TIME:20130116T105115Z
LAST-MODIFIED;VALUE=DATE-TIME:20130904T082217Z
LOCATION:via Bertacchi 11\, Sasso Marconi
URL:https://www.ausl.bologna.it/eventi/archivio/auslevent.2013-01-16.24744
 24958
END:VEVENT
END:VCALENDAR
