BEGIN:VCALENDAR
VERSION:2.0
PRODID:-//Plone.org//NONSGML plone.app.event//EN
X-WR-TIMEZONE:Europe/Rome
BEGIN:VEVENT
SUMMARY:Diventare genitori: l’arrivo di un figlio 
DTSTART;VALUE=DATE-TIME:20130206T160000Z
DTEND;VALUE=DATE-TIME:20130206T180000Z
DTSTAMP;VALUE=DATE-TIME:20260421T025900Z
UID:749c209da993b192d55be3e4333c4b94@127.0.0.1:8095
CATEGORIES:Incontro
CONTACT:051 6584687
CREATED;VALUE=DATE-TIME:20130115T141511Z
DESCRIPTION:La gravidanza e il cambiamento 
LAST-MODIFIED;VALUE=DATE-TIME:20130904T082107Z
LOCATION:Bologna\, Sala Borsa
URL:https://www.ausl.bologna.it/eventi/archivio/auslevent.2013-01-15.97487
 09767
END:VEVENT
END:VCALENDAR
