BEGIN:VCALENDAR
VERSION:2.0
PRODID:-//Plone.org//NONSGML plone.app.event//EN
X-WR-TIMEZONE:Europe/Rome
BEGIN:VEVENT
SUMMARY:Corso di balli popolari con Datti una mossa! e il circolo Ravone
DTSTART;VALUE=DATE-TIME:20130222T200000Z
DTEND;VALUE=DATE-TIME:20130222T220000Z
DTSTAMP;VALUE=DATE-TIME:20260421T025905Z
UID:cbab15d0db35fde35ea113a4912f493a@127.0.0.1:8095
CATEGORIES:corso
CONTACT:Circolo Ravone\, 051 6478495
CREATED;VALUE=DATE-TIME:20121219T102857Z
DESCRIPTION:Quarta edizione
LAST-MODIFIED;VALUE=DATE-TIME:20130904T082106Z
LOCATION:Bologna\, via De Carolis 7
URL:https://www.ausl.bologna.it/eventi/archivio/auslevent.2012-12-19.55693
 48290
END:VEVENT
END:VCALENDAR
