BEGIN:VCALENDAR
VERSION:2.0
PRODID:-//Plone.org//NONSGML plone.app.event//EN
X-WR-TIMEZONE:Europe/Rome
BEGIN:VEVENT
SUMMARY:Pizzica e Taranta
DTSTART;VALUE=DATE-TIME:20130129T200000Z
DTEND;VALUE=DATE-TIME:20130129T213000Z
DTSTAMP;VALUE=DATE-TIME:20260421T025906Z
UID:dfb209d7a4f0fa9ae69a4f72bd1d4c1a@127.0.0.1:8095
CATEGORIES:corso
CONTACT:Circolo Ravone\, 051 6478495
CREATED;VALUE=DATE-TIME:20121219T110002Z
DESCRIPTION:Corso di ballo popolare con il Circolo Ravone
LAST-MODIFIED;VALUE=DATE-TIME:20130904T082106Z
LOCATION:Bologna\, via De Carolis 7
URL:https://www.ausl.bologna.it/eventi/archivio/auslevent.2012-12-19.55302
 48396
END:VEVENT
END:VCALENDAR
