BEGIN:VCALENDAR
VERSION:2.0
PRODID:-//Plone.org//NONSGML plone.app.event//EN
X-WR-TIMEZONE:Europe/Rome
BEGIN:VEVENT
SUMMARY:Corso di formazione manageriale per dirigenti di struttura comples
 sa
DTSTART;VALUE=DATE-TIME:20130214T133000Z
DTEND;VALUE=DATE-TIME:20130214T163000Z
DTSTAMP;VALUE=DATE-TIME:20260421T025723Z
UID:66975a1015a4bd729ba115ad68d03c7b@127.0.0.1:8095
ATTENDEE;CN="Il corso è rivolto esclusivamente a dirigenti di struttura c
 omplessa";ROLE=REQ-PARTICIPANT:Il corso è rivolto esclusivamente a dirige
 nti di struttura complessa
CATEGORIES:corso di formazione
CREATED;VALUE=DATE-TIME:20121214T122723Z
DESCRIPTION:Elenco iscritti\, indicazioni  stradali e per il pagamento del
 la quota di iscrizione.\nCHIUSE LE ISCRIZIONI ALLA PRIMA EDIZIONE DEL CORS
 O\, dal primo maggio si apriranno le iscrizioni alle prossime edizioni.
LAST-MODIFIED;VALUE=DATE-TIME:20130904T082105Z
LOCATION:Bologna\, via S.Isaia 94a
URL:https://www.ausl.bologna.it/eventi/archivio/auslevent.2012-12-14.65163
 92176
END:VEVENT
END:VCALENDAR
