BEGIN:VCALENDAR
VERSION:2.0
PRODID:-//Plone.org//NONSGML plone.app.event//EN
X-WR-TIMEZONE:Europe/Rome
BEGIN:VEVENT
SUMMARY:Festa delle Famiglie
DTSTART;VALUE=DATE-TIME:20121215T080000Z
DTEND;VALUE=DATE-TIME:20121215T110000Z
DTSTAMP;VALUE=DATE-TIME:20260421T025911Z
UID:d3199e9db1ae64122762d70b6cc16077@127.0.0.1:8095
CATEGORIES:Festa
CREATED;VALUE=DATE-TIME:20121211T110331Z
DESCRIPTION:Al CAAB di Bologna\, Punto Vendita Ortomercato
LAST-MODIFIED;VALUE=DATE-TIME:20121219T095634Z
LOCATION:Bologna\, via Paolo Canali 1
URL:https://www.ausl.bologna.it/eventi/archivio/auslevent.2012-12-11.60996
 12299
END:VEVENT
END:VCALENDAR
