BEGIN:VCALENDAR
VERSION:2.0
PRODID:-//Plone.org//NONSGML plone.app.event//EN
X-WR-TIMEZONE:Europe/Rome
BEGIN:VEVENT
SUMMARY:Trombolisi nell'ictus ischemico. Meeting interaziendale
DTSTART;VALUE=DATE-TIME:20121215T073000Z
DTEND;VALUE=DATE-TIME:20121215T113000Z
DTSTAMP;VALUE=DATE-TIME:20260421T025728Z
UID:32b938954c1119a30f9d1145b2e4f809@127.0.0.1:8095
CATEGORIES:Convegno
CONTACT:Patrizia Angelotti\, 0547 20630 \, patrizia.angelotti@accuratesolu
 tions.it
CREATED;VALUE=DATE-TIME:20121211T121845Z
DESCRIPTION:Il convegno è parte di Grandangolo - Meeting interaziendali s
 ullo stroke\, organizzato da Azienda USL di Bologna e Azienda Ospedaliera 
 Universitaria di Bologna
LAST-MODIFIED;VALUE=DATE-TIME:20121219T095638Z
LOCATION:Bologna\, Aula Cesari\, Casa dei Donatori di Sangue AVIS Provinci
 ale via dell'Ospedale\, 20
URL:https://www.ausl.bologna.it/eventi/archivio/auslevent.2012-12-11.60954
 74657
END:VEVENT
END:VCALENDAR
