BEGIN:VCALENDAR
VERSION:2.0
PRODID:-//Plone.org//NONSGML plone.app.event//EN
X-WR-TIMEZONE:Europe/Rome
BEGIN:VEVENT
SUMMARY:Over limits
DTSTART;VALUE=DATE-TIME:20121207T140000Z
DTEND;VALUE=DATE-TIME:20121207T160000Z
DTSTAMP;VALUE=DATE-TIME:20260421T025906Z
UID:4d2fd4452b3b843331069cc4c1f16b98@127.0.0.1:8095
CATEGORIES:Festa
CREATED;VALUE=DATE-TIME:20121203T112716Z
DESCRIPTION:Bambini\, ragazzi\, istruttori ed educatori per una giornata d
 i basket per le persone disabili in compagnia dei giocatori della Fortitud
 o. L'evento è collegato alla giornata mondiale per le persone con disabil
 ità.  
LAST-MODIFIED;VALUE=DATE-TIME:20121219T095629Z
LOCATION:Bologna\, Polisportiva Lame - Via V. De Gama\, 20
URL:https://www.ausl.bologna.it/eventi/archivio/auslevent.2012-12-03.52564
 68592
END:VEVENT
END:VCALENDAR
