BEGIN:VCALENDAR
VERSION:2.0
PRODID:-//Plone.org//NONSGML plone.app.event//EN
X-WR-TIMEZONE:Europe/Rome
BEGIN:VEVENT
SUMMARY:La bambina\, il pugile\, il canguro.
DTSTART;VALUE=DATE-TIME:20121205T193000Z
DTEND;VALUE=DATE-TIME:20121205T203000Z
DTSTAMP;VALUE=DATE-TIME:20260421T025728Z
UID:09af0cf4cd3693e9bdd861527ec686cd@127.0.0.1:8095
CATEGORIES:Presentazione libro
CREATED;VALUE=DATE-TIME:20121129T112359Z
DESCRIPTION:Gian Antonio Stella presenta il suo libro in occasione della g
 iornata dei diritti delle persone con disabilità.
LAST-MODIFIED;VALUE=DATE-TIME:20121219T095620Z
LOCATION:Bologna\, Libreria Giannino e Stoppani\, via Rizzoli 1
URL:https://www.ausl.bologna.it/eventi/archivio/auslevent.2012-11-29.34807
 22916
END:VEVENT
END:VCALENDAR
