BEGIN:VCALENDAR
VERSION:2.0
PRODID:-//Plone.org//NONSGML plone.app.event//EN
X-WR-TIMEZONE:Europe/Rome
BEGIN:VEVENT
SUMMARY:Rapido\, anonimo e sicuro.Fai il test
DTSTART;VALUE=DATE-TIME:20121201T090000Z
DTEND;VALUE=DATE-TIME:20121201T210000Z
DTSTAMP;VALUE=DATE-TIME:20260421T025900Z
UID:649909351503fbadf41194859df7e7ad@127.0.0.1:8095
CREATED;VALUE=DATE-TIME:20121128T101959Z
DESCRIPTION:Il test HIV è gratuito\, indolore e veloce\, avrai il risulta
 to in 20 minuti e la tua privacy sarà rispettata. Se hai avuto rapporti n
 on protetti\, salvaguarda la tua salute e quella degli altri. Ti aspettiam
 o
LAST-MODIFIED;VALUE=DATE-TIME:20121219T095617Z
LOCATION:Piazza Maggiore
URL:https://www.ausl.bologna.it/eventi/archivio/auslevent.2012-11-28.55300
 15215
END:VEVENT
END:VCALENDAR
