BEGIN:VCALENDAR
VERSION:2.0
PRODID:-//Plone.org//NONSGML plone.app.event//EN
X-WR-TIMEZONE:Europe/Rome
BEGIN:VEVENT
SUMMARY:Senza riserve. Una giornata di sport\, musica e solidarietà
DTSTART;VALUE=DATE-TIME:20121215T080000Z
DTEND;VALUE=DATE-TIME:20121215T140000Z
DTSTAMP;VALUE=DATE-TIME:20260421T025900Z
UID:d90b11c7911ea354d32cf8c2778947ae@127.0.0.1:8095
CATEGORIES:Festa
CONTACT:Mino Di Taranto\, 051 6224260\, m.ditaranto@ausl.bologna.it
CREATED;VALUE=DATE-TIME:20121127T113314Z
DESCRIPTION:Calcetto\, danza e musica dal vivo\, tortellini e verdura biol
 ogica. Tutto a favore delle comunità colpite dal sisma. Una giornata di "
 Riscossa solidale" organizzata dalla Polisportiva Diavoli Rossi
LAST-MODIFIED;VALUE=DATE-TIME:20121219T095614Z
LOCATION:San Lazzaro di Savena\, Palazzo dello sport\, via Caselle\, e Cas
 a Bastelli\, via Emilia\, 297
URL:https://www.ausl.bologna.it/eventi/archivio/auslevent.2012-11-27.34667
 57510
END:VEVENT
END:VCALENDAR
