BEGIN:VCALENDAR
VERSION:2.0
PRODID:-//Plone.org//NONSGML plone.app.event//EN
X-WR-TIMEZONE:Europe/Rome
BEGIN:VEVENT
SUMMARY:Il percorso di Audit nelle Case Residenza per Anziani
DTSTART;VALUE=DATE-TIME:20121210T073000Z
DTEND;VALUE=DATE-TIME:20121210T160000Z
DTSTAMP;VALUE=DATE-TIME:20260421T025900Z
UID:643ce67a50fb85fdfe92314aefbaac3a@127.0.0.1:8095
CATEGORIES:Convegno
CONTACT:Segreteria Direzione Dipartimento delle Attività Socio‐Sanitari
 e\, 051-6584871/4970\, direzione.sociosanitaria@ausl.bologna.it
CREATED;VALUE=DATE-TIME:20121126T112546Z
DESCRIPTION:Risultati ed esperienze a confronto. Un evento formativo gratu
 ito per un massimo di 150 professionisti partecipanti con iscrizione obbli
 gatoria. Sono stati richiesti i crediti ECM per le professioni coinvolte e
  l’accreditamento all’OASER per gli Assistenti Sociali.
LAST-MODIFIED;VALUE=DATE-TIME:20121219T095610Z
LOCATION:Bologna\, Aula Magna Ospedale Bellaria\, Padiglione Tinozzi - Via
  Altura 3
URL:https://www.ausl.bologna.it/eventi/archivio/auslevent.2012-11-26.03240
 80480
END:VEVENT
END:VCALENDAR
