BEGIN:VCALENDAR
VERSION:2.0
PRODID:-//Plone.org//NONSGML plone.app.event//EN
X-WR-TIMEZONE:Europe/Rome
BEGIN:VEVENT
SUMMARY:Arte e Salute. Va in scena "Studio su La classe morta"
DTSTART;VALUE=DATE-TIME:20121122T201500Z
DTEND;VALUE=DATE-TIME:20121122T220000Z
DTSTAMP;VALUE=DATE-TIME:20260421T025723Z
UID:5b697d6bdda9d3630e3d3616c7d93f55@127.0.0.1:8095
CATEGORIES:Spettacolo teatrale
CONTACT:Arena del Sole\, biglietteria@arenadelsole.it
CREATED;VALUE=DATE-TIME:20121121T095855Z
DESCRIPTION:Uno spettacolo teatrale all'interno del progetto “Arte e Sal
 ute nell’Arena del Sole”. Al Teatro delle Moline\, dal 22 novembre al 
 14 dicembre
LAST-MODIFIED;VALUE=DATE-TIME:20121219T095600Z
LOCATION:Bologna\, Teatro delle Moline\, via delle Moline\, 1
URL:https://www.ausl.bologna.it/eventi/archivio/auslevent.2012-11-21.49441
 68021
END:VEVENT
END:VCALENDAR
