BEGIN:VCALENDAR
VERSION:2.0
PRODID:-//Plone.org//NONSGML plone.app.event//EN
X-WR-TIMEZONE:Europe/Rome
BEGIN:VEVENT
SUMMARY:7° Forum Risk Management in Sanità
DTSTART;VALUE=DATE-TIME:20121120T080000Z
DTEND;VALUE=DATE-TIME:20121123T160000Z
DTSTAMP;VALUE=DATE-TIME:20260421T025912Z
UID:1f3648aa99319529aaf8a4d144cd98f1@127.0.0.1:8095
CATEGORIES:Convegno
CREATED;VALUE=DATE-TIME:20121120T133232Z
DESCRIPTION:Meeting\, workshop ed expo delle tecnologie applicate alla sic
 urezza del paziente\, ambiente e salute. Dal 20 al 23 novembre ad Arezzo
LAST-MODIFIED;VALUE=DATE-TIME:20121219T095553Z
LOCATION:Arezzo\, Fiere e Congressi\, via Spallanzani\, 23
URL:https://www.ausl.bologna.it/eventi/archivio/auslevent.2012-11-20.77563
 83016
END:VEVENT
END:VCALENDAR
