BEGIN:VCALENDAR
VERSION:2.0
PRODID:-//Plone.org//NONSGML plone.app.event//EN
X-WR-TIMEZONE:Europe/Rome
BEGIN:VEVENT
SUMMARY:Focus on: le neoplasie dell'ano
DTSTART;VALUE=DATE-TIME:20121123T074500Z
DTEND;VALUE=DATE-TIME:20121123T160000Z
DTSTAMP;VALUE=DATE-TIME:20260421T025728Z
UID:58cb1a2082093ed8dc5b2da35697bb04@127.0.0.1:8095
CATEGORIES:Aggiornamento
CONTACT:Monica Michelacci\, 0543 446500\, mmichelacci@ceub.it
CREATED;VALUE=DATE-TIME:20121120T130614Z
LAST-MODIFIED;VALUE=DATE-TIME:20121219T095551Z
LOCATION:Bertinoro (FC)\, Centro Residenziale Universitario di Bertinoro\,
  via Frangipane\, 6
URL:https://www.ausl.bologna.it/eventi/archivio/auslevent.2012-11-20.24894
 70615
END:VEVENT
END:VCALENDAR
