BEGIN:VCALENDAR
VERSION:2.0
PRODID:-//Plone.org//NONSGML plone.app.event//EN
X-WR-TIMEZONE:Europe/Rome
BEGIN:VEVENT
SUMMARY:Assistere Ascoltando
DTSTART;VALUE=DATE-TIME:20121207T080000Z
DTEND;VALUE=DATE-TIME:20121207T130000Z
DTSTAMP;VALUE=DATE-TIME:20260421T025912Z
UID:8bf2d7587161dc0fb1dbf5142ab62820@127.0.0.1:8095
CATEGORIES:Convegno
CONTACT:CADIAI - Cooperativa sociale\, 051 7419001\, info@cadiai.it
CREATED;VALUE=DATE-TIME:20121116T125436Z
DESCRIPTION:Un confronto tra cultura e prassi dell'assistenza a chi se ne 
 sta andando. Un evento organizzato dalla cooperativa sociale CADIAI.
LAST-MODIFIED;VALUE=DATE-TIME:20121219T095517Z
LOCATION:Bologna\, Aula Prodi - Piazza San Giovanni in Monte 2
URL:https://www.ausl.bologna.it/eventi/archivio/auslevent.2012-11-16.79471
 32690
END:VEVENT
END:VCALENDAR
