BEGIN:VCALENDAR
VERSION:2.0
PRODID:-//Plone.org//NONSGML plone.app.event//EN
X-WR-TIMEZONE:Europe/Rome
BEGIN:VEVENT
SUMMARY:Scienze neurologiche 2012. In ricordo di Pasquale Montagna
DTSTART;VALUE=DATE-TIME:20121218T153000Z
DTEND;VALUE=DATE-TIME:20121218T180000Z
DTSTAMP;VALUE=DATE-TIME:20260421T025905Z
UID:d4f771a5eeecb0224d768ba113ad1042@127.0.0.1:8095
ATTENDEE;CN="Chairmen: Agostino Baruzzi, Pietro Cortelli, Pierluigi Gambet
 ti, Elio Lugaresi, Flavia Valentini";ROLE=REQ-PARTICIPANT:Chairmen: Agosti
 no Baruzzi, Pietro Cortelli, Pierluigi Gambetti, Elio Lugaresi, Flavia Val
 entini
CATEGORIES:Incontro
CONTACT:Segreteria organizzativa MCC\, 051 263703\, segreteria@mccstudio.o
 rg
CREATED;VALUE=DATE-TIME:20121115T105309Z
DESCRIPTION:Una relazione scientifica di grande livello per ricordare il p
 rofessore di Neurologia scomparso
LAST-MODIFIED;VALUE=DATE-TIME:20121219T100143Z
LOCATION:Bologna\, Aula Prodi\, Complesso di San Giovanni in Monte\, Piazz
 a San Giovanni in Monte\, 2 
URL:https://www.ausl.bologna.it/eventi/archivio/auslevent.2012-11-15.94324
 00690
END:VEVENT
END:VCALENDAR
