BEGIN:VCALENDAR
VERSION:2.0
PRODID:-//Plone.org//NONSGML plone.app.event//EN
X-WR-TIMEZONE:Europe/Rome
BEGIN:VEVENT
SUMMARY:Si può fare. Esperienze di dono e recupero per nuovi stili di vit
 a
DTSTART;VALUE=DATE-TIME:20121116T083000Z
DTEND;VALUE=DATE-TIME:20121116T163000Z
DTSTAMP;VALUE=DATE-TIME:20260420T143351Z
UID:4bc237920fbd80dc80b8d581067e1f82@127.0.0.1:8095
CATEGORIES:Tavola rotonda,Convegno
CONTACT:Rossella Cecchini\, 051 340328\, poverta.cibo.bo@gmail.com
CREATED;VALUE=DATE-TIME:20121115T110756Z
DESCRIPTION:Tavola rotonda e esperienze al confronto sul tema dello spreco
  alimentare e della solidarietà\, all'interno del progetto regionale di c
 ontrasto alla povertà
LAST-MODIFIED;VALUE=DATE-TIME:20121219T095642Z
LOCATION:Bologna\, Oratorio San Filippo Neri\, via Manzoni\, 5
URL:https://www.ausl.bologna.it/eventi/archivio/auslevent.2012-11-15.05079
 09504
END:VEVENT
END:VCALENDAR
