BEGIN:VCALENDAR
VERSION:2.0
PRODID:-//Plone.org//NONSGML plone.app.event//EN
X-WR-TIMEZONE:Europe/Rome
BEGIN:VEVENT
SUMMARY:Un sorriso lungo 10 anni!
DTSTART;VALUE=DATE-TIME:20121129T193000Z
DTEND;VALUE=DATE-TIME:20121129T220000Z
DTSTAMP;VALUE=DATE-TIME:20260421T025912Z
UID:c27fecd538297b5bbcb0d314742ede2f@127.0.0.1:8095
CATEGORIES:Festa
CREATED;VALUE=DATE-TIME:20121112T115508Z
DESCRIPTION:10 anni di Clown di corsia a Bologna\, grazie all'Associazione
  VIP Bologna Onlus. Una serata di festeggiamenti e divertimento a ingresso
  libero. 
LAST-MODIFIED;VALUE=DATE-TIME:20121219T100133Z
LOCATION:Bologna\, Teatro dell'Antoniano - via Guinizelli 3
URL:https://www.ausl.bologna.it/eventi/archivio/auslevent.2012-11-12.93783
 88834
END:VEVENT
END:VCALENDAR
