BEGIN:VCALENDAR
VERSION:2.0
PRODID:-//Plone.org//NONSGML plone.app.event//EN
X-WR-TIMEZONE:Europe/Rome
BEGIN:VEVENT
SUMMARY:La spalla dolorosa. Approccio multidisciplinare: come \, quando e 
 perché
DTSTART;VALUE=DATE-TIME:20121207T083000Z
DTEND;VALUE=DATE-TIME:20121207T173000Z
DTSTAMP;VALUE=DATE-TIME:20260421T025859Z
UID:f422da87802d5e771fa4957c1149104d@127.0.0.1:8095
CONTACT:Segereteria organizzativa\, 3204611500\, scuolaecomsk.bo@gmail.com
CREATED;VALUE=DATE-TIME:20121112T084338Z
DESCRIPTION:Aggiornamento clinico-diagnostico-riabilitativo nel trattament
 o della spalla dolorosa. 
LAST-MODIFIED;VALUE=DATE-TIME:20121219T095650Z
LOCATION:San Giovanni in Persiceto\, Ospedale SS. Salvatore\, via L. Palma
 \, 1
URL:https://www.ausl.bologna.it/eventi/archivio/auslevent.2012-11-12.20229
 39920
END:VEVENT
END:VCALENDAR
