BEGIN:VCALENDAR
VERSION:2.0
PRODID:-//Plone.org//NONSGML plone.app.event//EN
X-WR-TIMEZONE:Europe/Rome
BEGIN:VEVENT
SUMMARY:To see\, or not to see
DTSTART;VALUE=DATE-TIME:20121203T080000Z
DTEND;VALUE=DATE-TIME:20121203T170000Z
DTSTAMP;VALUE=DATE-TIME:20260421T025906Z
UID:784913bda41bd52a2d50aea975ef472a@127.0.0.1:8095
ATTENDEE;CN="Carlo Lusenti Assessore Politiche per la salute, Regione Emil
 ia-Romagna; Roberto Grilli - Direttore Agenzia sanitaria e sociale regiona
 le dell’Emilia-Romagna; Patrick Bossuyt - Università di Amsterdam, Olan
 da; Benjamin Djulbegovic - Università di Tampa, Florida.";ROLE=REQ-PARTIC
 IPANT:Carlo Lusenti Assessore Politiche per la salute, Regione Emilia-Roma
 gna; Roberto Grilli - Direttore Agenzia sanitaria e sociale regionale dell
 ’Emilia-Romagna; Patrick Bossuyt - Università di Amsterdam, Olanda; Ben
 jamin Djulbegovic - Università di Tampa, Florida.
CATEGORIES:Convegno
CREATED;VALUE=DATE-TIME:20121112T100219Z
DESCRIPTION:Il futuro degli esami diagnostici\, prognostici  e predittivi
LAST-MODIFIED;VALUE=DATE-TIME:20121219T100129Z
LOCATION:Bologna\, Aula A c/o Terza Torre - viale della Fiera 8
URL:https://www.ausl.bologna.it/eventi/archivio/auslevent.2012-11-12.04995
 69293
END:VEVENT
END:VCALENDAR
