BEGIN:VCALENDAR
VERSION:2.0
PRODID:-//Plone.org//NONSGML plone.app.event//EN
X-WR-TIMEZONE:Europe/Rome
BEGIN:VEVENT
SUMMARY:Senologia. Inquadramento diagnostico e definizione della strategia
  chirurgica
DTSTART;VALUE=DATE-TIME:20121110T080000Z
DTEND;VALUE=DATE-TIME:20121110T150000Z
DTSTAMP;VALUE=DATE-TIME:20260421T025905Z
UID:26f9fdf66c4839062fa164eb79059d50@127.0.0.1:8095
CATEGORIES:Convegno
CONTACT:Kassiopea Group\, 070 651242\, antonellamurru@kassiopeagroup.com
CREATED;VALUE=DATE-TIME:20121108T115944Z
DESCRIPTION:Corso di formazione in Chirurgia senologica della Società Ita
 liana di Chirurgia Oncologica
LAST-MODIFIED;VALUE=DATE-TIME:20121115T122141Z
LOCATION:Bologna\, Hotel Relais Bellaria\, via Altura\, 11/bis
URL:https://www.ausl.bologna.it/eventi/archivio/auslevent.2012-11-08.69041
 87866
END:VEVENT
END:VCALENDAR
