BEGIN:VCALENDAR
VERSION:2.0
PRODID:-//Plone.org//NONSGML plone.app.event//EN
X-WR-TIMEZONE:Europe/Rome
BEGIN:VEVENT
SUMMARY:Il Percorso di Audit nelle Case Residenza per Anziani. Risultati e
 d esperienze a confronto
DTSTART;VALUE=DATE-TIME:20121210T073000Z
DTEND;VALUE=DATE-TIME:20121210T160000Z
DTSTAMP;VALUE=DATE-TIME:20260421T025727Z
UID:dc03d9ea76c9196881371fd082bd2e69@127.0.0.1:8095
CATEGORIES:Convegno
CONTACT:Segreteria Dipartimento Attività Socio-Sanitarie\, 051 6584871\, 
 direzione.sociosanitaria@ausl.bologna.it
CREATED;VALUE=DATE-TIME:20121108T144755Z
LAST-MODIFIED;VALUE=DATE-TIME:20121219T095647Z
LOCATION:Bologna\, Aula Magna del Padiglione Tinozzi - Ospedale Bellaria -
  Via Altura\, 5
URL:https://www.ausl.bologna.it/eventi/archivio/auslevent.2012-11-08.68685
 85426
END:VEVENT
END:VCALENDAR
