BEGIN:VCALENDAR
VERSION:2.0
PRODID:-//Plone.org//NONSGML plone.app.event//EN
X-WR-TIMEZONE:Europe/Rome
BEGIN:VEVENT
SUMMARY:Corso regionale di formazione per addetti alla raccolta del sangue
  e degli emocomponenti
DTSTART;VALUE=DATE-TIME:20121106T080000Z
DTEND;VALUE=DATE-TIME:20121106T160000Z
DTSTAMP;VALUE=DATE-TIME:20260421T025900Z
UID:a173df1463e04eb7c71b77c53854e793@127.0.0.1:8095
CATEGORIES:corso
CREATED;VALUE=DATE-TIME:20121026T132319Z
DESCRIPTION:Rivolto al personale medico e infermieristico\, il corso si ar
 ticola in 6 moduli di formazione e acquisizione delle competenze necessari
 e
LAST-MODIFIED;VALUE=DATE-TIME:20121115T122139Z
LOCATION:Bologna\, Aula Cesari\, 1° Piano\, Casa del Donatore\, via dell
 ’Ospedale\, 20
URL:https://www.ausl.bologna.it/eventi/archivio/auslevent.2012-10-26.98294
 15768
END:VEVENT
END:VCALENDAR
