BEGIN:VCALENDAR
VERSION:2.0
PRODID:-//Plone.org//NONSGML plone.app.event//EN
X-WR-TIMEZONE:Europe/Rome
BEGIN:VEVENT
SUMMARY:Soluzioni innovative nell'implantologia guidata
DTSTART;VALUE=DATE-TIME:20121026T060000Z
DTEND;VALUE=DATE-TIME:20121027T150000Z
DTSTAMP;VALUE=DATE-TIME:20260421T011223Z
UID:09a8131518743e333e2292efb2828158@127.0.0.1:8095
CATEGORIES:Convegno
CONTACT:Segreteria organizzativa C&C Comunicazione Eventi Congressi \, 06 
 60210638\, info@cecongressi.com
CREATED;VALUE=DATE-TIME:20121025T101033Z
DESCRIPTION:VI convegno internazionale dell'Accademia Simplant Italia
LAST-MODIFIED;VALUE=DATE-TIME:20121115T122137Z
LOCATION:Bologna\, Aula Magna dell'Ospedale Maggiore\, Largo Nigrisoli\, 2
URL:https://www.ausl.bologna.it/eventi/archivio/auslevent.2012-10-25.99027
 17752
END:VEVENT
END:VCALENDAR
