BEGIN:VCALENDAR
VERSION:2.0
PRODID:-//Plone.org//NONSGML plone.app.event//EN
X-WR-TIMEZONE:Europe/Rome
BEGIN:VEVENT
SUMMARY:Presentazione Casa della Salute Barberini
DTSTART;VALUE=DATE-TIME:20121022T110000Z
DTEND;VALUE=DATE-TIME:20121022T120000Z
DTSTAMP;VALUE=DATE-TIME:20260421T011058Z
UID:002112402439e8c76656ff76f575c61f@127.0.0.1:8095
CATEGORIES:Incontro
CREATED;VALUE=DATE-TIME:20121019T110649Z
DESCRIPTION:Francesco Ripa di Meana\, Direttore Generale dell'Azienda USL 
 di Bologna\, presenta la Casa della Salute Barberini\, nuova struttura per
  la salute dei cittadini e prodotto della ricostruzione del post-terremoto
 .
LAST-MODIFIED;VALUE=DATE-TIME:20121115T122135Z
LOCATION:Crevalcore\, Centro Musicale Melò - Via Candia 385/a
URL:https://www.ausl.bologna.it/eventi/archivio/auslevent.2012-10-19.98659
 01901
END:VEVENT
END:VCALENDAR
