BEGIN:VCALENDAR
VERSION:2.0
PRODID:-//Plone.org//NONSGML plone.app.event//EN
X-WR-TIMEZONE:Europe/Rome
BEGIN:VEVENT
SUMMARY:Ulcere cutanee di origine vascolare: aspetti scientifici\, sanitar
 i e socio-economici
DTSTART;VALUE=DATE-TIME:20121027T063000Z
DTEND;VALUE=DATE-TIME:20121027T163000Z
DTSTAMP;VALUE=DATE-TIME:20260421T011058Z
UID:e92747d8dd2d132b5d7d547fe14decc9@127.0.0.1:8095
CATEGORIES:Convegno
CONTACT:Segreteria organizzativa Senaf\, 051 325511\, elisa.olivi@senaf.it
CREATED;VALUE=DATE-TIME:20121017T074805Z
LAST-MODIFIED;VALUE=DATE-TIME:20121115T122126Z
LOCATION:Porretta Terme (BO)\, Terme di Porretta Hotel delle Acque & Natur
 al SPA\, via Roma\, 5
URL:https://www.ausl.bologna.it/eventi/archivio/auslevent.2012-10-17.12864
 90913
END:VEVENT
END:VCALENDAR
