BEGIN:VCALENDAR
VERSION:2.0
PRODID:-//Plone.org//NONSGML plone.app.event//EN
X-WR-TIMEZONE:Europe/Rome
BEGIN:VEVENT
SUMMARY:Un giorno in Plus\, dalla diagnosi alla HAART
DTSTART;VALUE=DATE-TIME:20121026T070000Z
DTEND;VALUE=DATE-TIME:20121026T160000Z
DTSTAMP;VALUE=DATE-TIME:20260421T010908Z
UID:94a4a1f09c9cae9bc406f866833f6448@127.0.0.1:8095
CATEGORIES:Convegno
CONTACT:Nadia Assueri\, solo fax: 051/6584349\, n.assueri@ausl.bo.it
CREATED;VALUE=DATE-TIME:20121016T081324Z
DESCRIPTION:Un giorno per parlare e discutere dei servizi per le persone s
 ieropositive e affette da HIV. In collaborazione con Cassero e PLUS - Pers
 one LGBT sieropositive Onlus.
LAST-MODIFIED;VALUE=DATE-TIME:20121115T115511Z
LOCATION:Bologna\, Hotel Europa - Via Cesare Boldrini\, 1
URL:https://www.ausl.bologna.it/eventi/archivio/auslevent.2012-10-16.61069
 72821
END:VEVENT
END:VCALENDAR
