BEGIN:VCALENDAR
VERSION:2.0
PRODID:-//Plone.org//NONSGML plone.app.event//EN
X-WR-TIMEZONE:Europe/Rome
BEGIN:VEVENT
SUMMARY:Dal progetto "Mai più soli" alla gestione della fragilità: model
 li integrati di servizi socio assistenziali
DTSTART;VALUE=DATE-TIME:20121018T073000Z
DTEND;VALUE=DATE-TIME:20121018T113000Z
DTSTAMP;VALUE=DATE-TIME:20260421T011107Z
UID:a1761490a9cef9bb681ddfdd2c7c11a8@127.0.0.1:8095
CONTACT:Elena Fabbri\, 051 6669531\, pianidizona@comune.san-pietro-in-casa
 le.bo.it
CREATED;VALUE=DATE-TIME:20121016T132745Z
DESCRIPTION:Un incontro per fare il punto e rilanciare le esperienze matur
 ate nel Distretto Pianura Est durante il 2012\, anno europeo per l'invecch
 iamento attivo. Servizi Sociali\, Aziende sanitarie\, Aziende per i Serviz
 i alla Persona e Terzo settore assieme\, per progettare nuovi ruoli e perc
 orsi di impegno sociale e lavorativo. Sono stati richiesti i crediti ECM p
 er le professioni Sociali e Sanitarie.
LAST-MODIFIED;VALUE=DATE-TIME:20121115T115514Z
LOCATION:Castenaso (Bo)\, Sala Cinema Teatro Italia - Via Nasica\, 38
URL:https://www.ausl.bologna.it/eventi/archivio/auslevent.2012-10-16.37365
 25680
END:VEVENT
END:VCALENDAR
