BEGIN:VCALENDAR
VERSION:2.0
PRODID:-//Plone.org//NONSGML plone.app.event//EN
X-WR-TIMEZONE:Europe/Rome
BEGIN:VEVENT
SUMMARY:Meccanismi neurobiologici dell'effetto placebo
DTSTART;VALUE=DATE-TIME:20121026T093000Z
DTEND;VALUE=DATE-TIME:20121026T113000Z
DTSTAMP;VALUE=DATE-TIME:20260421T011013Z
UID:a567475f4be66f8388b988af86227fd3@127.0.0.1:8095
CATEGORIES:seminario
CREATED;VALUE=DATE-TIME:20121015T100814Z
DESCRIPTION:Seminario di formazione e aggiornamento
LAST-MODIFIED;VALUE=DATE-TIME:20121115T115508Z
LOCATION:Bologna\, Ospedale Bellaria\, Padiglione G\, 1° piano\, via Altu
 ra\, 3
URL:https://www.ausl.bologna.it/eventi/archivio/auslevent.2012-10-15.24795
 12009
END:VEVENT
END:VCALENDAR
