BEGIN:VCALENDAR
VERSION:2.0
PRODID:-//Plone.org//NONSGML plone.app.event//EN
X-WR-TIMEZONE:Europe/Rome
BEGIN:VEVENT
SUMMARY:Progetto ambiente terra ambiente bambino
DTSTART;VALUE=DATE-TIME:20121116T073000Z
DTEND;VALUE=DATE-TIME:20121116T123000Z
DTSTAMP;VALUE=DATE-TIME:20260421T011701Z
UID:9d05d04272e15029aa92c3ecbde654b4@127.0.0.1:8095
CATEGORIES:seminario
CONTACT:a.cassetti@ausl.bologna.it
CREATED;VALUE=DATE-TIME:20121012T071930Z
DESCRIPTION:Dalla gestione dell'emergenza alla valutazione\, cura e monito
 raggio del disturbo post-traumatico nei bambini.
LAST-MODIFIED;VALUE=DATE-TIME:20121219T095646Z
LOCATION:Crevalcore\, Sala Ilaria Alpi
URL:https://www.ausl.bologna.it/eventi/archivio/auslevent.2012-10-12.25830
 44133
END:VEVENT
END:VCALENDAR
