BEGIN:VCALENDAR
VERSION:2.0
PRODID:-//Plone.org//NONSGML plone.app.event//EN
X-WR-TIMEZONE:Europe/Rome
BEGIN:VEVENT
SUMMARY:Salute e Medicina di Genere
DTSTART;VALUE=DATE-TIME:20121013T063000Z
DTEND;VALUE=DATE-TIME:20121013T153000Z
DTSTAMP;VALUE=DATE-TIME:20260421T011242Z
UID:ce7915ab48be4c7929ff1b73e63f50c5@127.0.0.1:8095
CATEGORIES:Convegno
CONTACT:Konicab Congressi\, congressi@konicab.it
CREATED;VALUE=DATE-TIME:20121009T070118Z
DESCRIPTION:Invecchiamento\, longevità\, problematiche cardiache\, risvol
 ti medico-legali\, malattie respiratorie nelle differenze tra uomo e donna
 .
LAST-MODIFIED;VALUE=DATE-TIME:20121115T115455Z
LOCATION:Bologna\, Stabat Mater Archiginnasio
URL:https://www.ausl.bologna.it/eventi/archivio/auslevent.2012-10-09.74273
 51306
END:VEVENT
END:VCALENDAR
