BEGIN:VCALENDAR
VERSION:2.0
PRODID:-//Plone.org//NONSGML plone.app.event//EN
X-WR-TIMEZONE:Europe/Rome
BEGIN:VEVENT
SUMMARY:Giornata Nazionale sulle Spondiloartriti: capire\, conoscere\, cur
 are.
DTSTART;VALUE=DATE-TIME:20121027T070000Z
DTEND;VALUE=DATE-TIME:20121027T153000Z
DTSTAMP;VALUE=DATE-TIME:20260421T011701Z
UID:2b3a14db6e37e2d1b5c55e6f08bb53b4@127.0.0.1:8095
CATEGORIES:Incontro
CONTACT:AMRER Onlus • Associazione Malati Reumatici Emilia Romagna\, 051
 .249045 – Cell. 335.6223895 / 349.5800852
CREATED;VALUE=DATE-TIME:20121009T104323Z
DESCRIPTION:Un incontro pensato per i cittadini sui temi della spondilite 
 anchilosante\, l'artrite psoriasica\, le entesoartriti.
LAST-MODIFIED;VALUE=DATE-TIME:20121115T115506Z
LOCATION:Bologna\, Aemilia Hotel Sala Convegni\, Via Zaccherini Alvisi 16
URL:https://www.ausl.bologna.it/eventi/archivio/auslevent.2012-10-09.71167
 53374
END:VEVENT
END:VCALENDAR
