BEGIN:VCALENDAR
VERSION:2.0
PRODID:-//Plone.org//NONSGML plone.app.event//EN
X-WR-TIMEZONE:Europe/Rome
BEGIN:VEVENT
SUMMARY:Nuove generazioni. Genere\, sessualità e rischio fra gli adolesce
 nti di origine straniera
DTSTART;VALUE=DATE-TIME:20121030T173000Z
DTEND;VALUE=DATE-TIME:20121030T183000Z
DTSTAMP;VALUE=DATE-TIME:20260420T075045Z
UID:6680819907f367bec9a72ea6aa4492e9@127.0.0.1:8095
ATTENDEE;CN="Anna Giorgia Agostini, Elvira Cicognani, Paola Marmocchi, Ele
 onora Strazzari, Federica Tarabusiv. Presenta Matilde Callari Galli.";ROLE
 =REQ-PARTICIPANT:Anna Giorgia Agostini, Elvira Cicognani, Paola Marmocchi,
  Eleonora Strazzari, Federica Tarabusiv. Presenta Matilde Callari Galli.
CATEGORIES:Presentazione
CREATED;VALUE=DATE-TIME:20121009T083711Z
DESCRIPTION:Presentazione del libro "Nuove generazioni. Genere\, sessualit
 à e rischio fra gli adolescenti di origine straniera" a cura di Paola Mar
 mocchi ed edito Franco Angeli.
LAST-MODIFIED;VALUE=DATE-TIME:20121115T115459Z
LOCATION:Libreria Coop Ambasciatori Via Orefici\, 19 – BolognaLibreria B
 ologna\, Coop Ambasciatori - Via Orefici\, 19
URL:https://www.ausl.bologna.it/eventi/archivio/auslevent.2012-10-09.14283
 96200
END:VEVENT
END:VCALENDAR
