BEGIN:VCALENDAR
VERSION:2.0
PRODID:-//Plone.org//NONSGML plone.app.event//EN
X-WR-TIMEZONE:Europe/Rome
BEGIN:VEVENT
SUMMARY:I gruppi di auto mutuo aiuto tra le persone che hanno vissuto l'es
 perienza del terremoto
DTSTART;VALUE=DATE-TIME:20121114T193000Z
DTEND;VALUE=DATE-TIME:20121114T210000Z
DTSTAMP;VALUE=DATE-TIME:20260421T012752Z
UID:309db19eb563504488b1a123901a968e@127.0.0.1:8095
CATEGORIES:Incontro
CONTACT:051 6584267
CREATED;VALUE=DATE-TIME:20120927T081934Z
LAST-MODIFIED;VALUE=DATE-TIME:20121115T115448Z
LOCATION:Crevalcore\, Sala Ilaria Alpi
URL:https://www.ausl.bologna.it/eventi/archivio/auslevent.2012-09-27.91239
 36526
END:VEVENT
END:VCALENDAR
