BEGIN:VCALENDAR
VERSION:2.0
PRODID:-//Plone.org//NONSGML plone.app.event//EN
X-WR-TIMEZONE:Europe/Rome
BEGIN:VEVENT
SUMMARY:I gruppi di auto mutuo aiuto tra le persone che hanno vissuto l'es
 perienza del terremoto
DTSTART;VALUE=DATE-TIME:20121003T183000Z
DTEND;VALUE=DATE-TIME:20121003T200000Z
DTSTAMP;VALUE=DATE-TIME:20260421T011721Z
UID:81704bf62d7d698c0ce9b49bfa6f4880@127.0.0.1:8095
CATEGORIES:Incontro
CONTACT:051 6584267
CREATED;VALUE=DATE-TIME:20120927T075004Z
LAST-MODIFIED;VALUE=DATE-TIME:20121115T115442Z
LOCATION:Crevalcore\, Sala Ilaria Alpi
URL:https://www.ausl.bologna.it/eventi/archivio/auslevent.2012-09-27.57360
 08881
END:VEVENT
END:VCALENDAR
