BEGIN:VCALENDAR
VERSION:2.0
PRODID:-//Plone.org//NONSGML plone.app.event//EN
X-WR-TIMEZONE:Europe/Rome
BEGIN:VEVENT
SUMMARY:I gruppi di auto mutuo aiuto tra le persone che hanno vissuto l'es
 perienza del terremoto
DTSTART;VALUE=DATE-TIME:20121031T193000Z
DTEND;VALUE=DATE-TIME:20121031T210000Z
DTSTAMP;VALUE=DATE-TIME:20260421T012541Z
UID:f2b9c7dc815ebafc03dc140f1d3db858@127.0.0.1:8095
CATEGORIES:Incontro
CONTACT:051 6584267
CREATED;VALUE=DATE-TIME:20120927T075427Z
LAST-MODIFIED;VALUE=DATE-TIME:20121115T115445Z
LOCATION:Crevalcore\, Sala Ilaria Alpi
URL:https://www.ausl.bologna.it/eventi/archivio/auslevent.2012-09-27.39561
 95566
END:VEVENT
END:VCALENDAR
