BEGIN:VCALENDAR
VERSION:2.0
PRODID:-//Plone.org//NONSGML plone.app.event//EN
X-WR-TIMEZONE:Europe/Rome
BEGIN:VEVENT
SUMMARY:Legge\, desiderio\, capitalismo
DTSTART;VALUE=DATE-TIME:20121024T080000Z
DTEND;VALUE=DATE-TIME:20121024T170000Z
DTSTAMP;VALUE=DATE-TIME:20260421T011615Z
UID:dde9c26974e460daa5718c4d9f218509@127.0.0.1:8095
CATEGORIES:seminario
CREATED;VALUE=DATE-TIME:20120927T080918Z
DESCRIPTION:Deleuze\, Lacan  e la psicoanalisi a quarant'anni dalla pubbli
 cazione de L'anti-Edipo
LAST-MODIFIED;VALUE=DATE-TIME:20121115T115447Z
LOCATION:Bologna\, Sala Borsa
URL:https://www.ausl.bologna.it/eventi/archivio/auslevent.2012-09-27.13700
 47586
END:VEVENT
END:VCALENDAR
