BEGIN:VCALENDAR
VERSION:2.0
PRODID:-//Plone.org//NONSGML plone.app.event//EN
X-WR-TIMEZONE:Europe/Rome
BEGIN:VEVENT
SUMMARY:Famiglie e servizi: esperienze di collaborazione fruttuosa
DTSTART;VALUE=DATE-TIME:20121006T070000Z
DTEND;VALUE=DATE-TIME:20121006T160000Z
DTSTAMP;VALUE=DATE-TIME:20260421T011809Z
UID:655d97c5a8bc89919ca4df1400df4546@127.0.0.1:8095
CATEGORIES:seminario
CONTACT:A.A.A.\, 051 596099\, lrusso@ascinsieme.it
CREATED;VALUE=DATE-TIME:20120926T105109Z
DESCRIPTION:Famiglie e servizi: esperienze di collaborazione fruttuosa
LAST-MODIFIED;VALUE=DATE-TIME:20121115T110022Z
LOCATION:Pontecchio di Sasso Marconi
URL:https://www.ausl.bologna.it/eventi/archivio/auslevent.2012-09-26.36905
 81666
END:VEVENT
END:VCALENDAR
