BEGIN:VCALENDAR
VERSION:2.0
PRODID:-//Plone.org//NONSGML plone.app.event//EN
X-WR-TIMEZONE:Europe/Rome
BEGIN:VEVENT
SUMMARY:Modelli organizzativi e sistemi operativi di gestione del Dipartim
 ento di Cure Primarie per la sostenibilità e l'efficacia delle cure
DTSTART;VALUE=DATE-TIME:20120928T073000Z
DTEND;VALUE=DATE-TIME:20120928T113000Z
DTSTAMP;VALUE=DATE-TIME:20260421T011225Z
UID:9526bed2375fb879ab3809570bd2a7bd@127.0.0.1:8095
CATEGORIES:Convegno
CONTACT:Centro di Ricerche sulla Gestione dell'Assistenza Sanitaria e Soci
 ale\, 02 5836.2597\, cergas@unibocconi.it
CREATED;VALUE=DATE-TIME:20120926T105619Z
DESCRIPTION:Convegno e tavola rotonda organizzata dal Centro di Ricerche s
 ulla Gestione dell'Assistenza Sanitaria e Sociale CERGAS dell'Università 
 Commerciale Luigi Bocconi
LAST-MODIFIED;VALUE=DATE-TIME:20121115T115435Z
LOCATION:Bologna\, Oratorio San Filippo Neri\, via Manzoni\, 5
URL:https://www.ausl.bologna.it/eventi/archivio/auslevent.2012-09-26.31190
 67966
END:VEVENT
END:VCALENDAR
