BEGIN:VCALENDAR
VERSION:2.0
PRODID:-//Plone.org//NONSGML plone.app.event//EN
X-WR-TIMEZONE:Europe/Rome
BEGIN:VEVENT
SUMMARY:Laboratorio delle idee sull'Educatore professionale
DTSTART;VALUE=DATE-TIME:20121019T080000Z
DTEND;VALUE=DATE-TIME:20121019T140000Z
DTSTAMP;VALUE=DATE-TIME:20260421T011737Z
UID:7190882f14f30280bf22ba5b80d84e92@127.0.0.1:8095
CATEGORIES:Convegno
CONTACT:ANEP - anep.it
CREATED;VALUE=DATE-TIME:20120924T090019Z
DESCRIPTION:Una figura consolidata: riflessioni sul suo sviuppo.
LAST-MODIFIED;VALUE=DATE-TIME:20121115T110021Z
LOCATION:Imola\, Plesso di Palazzo Vespignani - via Garibaldi 24
URL:https://www.ausl.bologna.it/eventi/archivio/auslevent.2012-09-24.02834
 10684
END:VEVENT
END:VCALENDAR
