BEGIN:VCALENDAR
VERSION:2.0
PRODID:-//Plone.org//NONSGML plone.app.event//EN
X-WR-TIMEZONE:Europe/Rome
BEGIN:VEVENT
SUMMARY:PRENDERSI CURA DEL BENE COMUNE: coniugare partecipazione e servizi
  alla persona nel terzo millennio
DTSTART;VALUE=DATE-TIME:20121018T143000Z
DTEND;VALUE=DATE-TIME:20121019T150000Z
DTSTAMP;VALUE=DATE-TIME:20260421T011241Z
UID:ed03acb503f1f6fa4d152526c9191ce2@127.0.0.1:8095
CONTACT:Associazione di promozione sociale "Don Giovanni Fornasini"\, 340 
 7790651\, info@fondazionesantaclelia.it
CREATED;VALUE=DATE-TIME:20120919T082451Z
DESCRIPTION:Giornate Studio del Corno alle Scale  - Ottava edizione
LAST-MODIFIED;VALUE=DATE-TIME:20121115T110020Z
LOCATION:Bologna\, Oratorio San Filippo Neri
URL:https://www.ausl.bologna.it/eventi/archivio/auslevent.2012-09-19.74078
 78887
END:VEVENT
END:VCALENDAR
