BEGIN:VCALENDAR
VERSION:2.0
PRODID:-//Plone.org//NONSGML plone.app.event//EN
X-WR-TIMEZONE:Europe/Rome
BEGIN:VEVENT
SUMMARY:Il senso di un percorso
DTSTART;VALUE=DATE-TIME:20120920T063000Z
DTEND;VALUE=DATE-TIME:20120920T150000Z
DTSTAMP;VALUE=DATE-TIME:20260421T011241Z
UID:f659abab3eed043139e71ed8f16be4cc@127.0.0.1:8095
ATTENDEE;CN="Il seminario è rivolto a infermieri, fisioterapisti, assiste
 nti sanitari, educatori professionali, ostetriche, tecnici fisiopat. cardi
 oc. e perf. cardiov. e medici delle seguenti discipline: cardiologia, cont
 inuità assistenziale, direzione medica di presidio";ROLE=REQ-PARTICIPANT:
 Il seminario è rivolto a infermieri, fisioterapisti, assistenti sanitari,
  educatori professionali, ostetriche, tecnici fisiopat. cardioc. e perf. c
 ardiov. e medici delle seguenti discipline: cardiologia, continuità assis
 tenziale, direzione medica di presidio
ATTENDEE;CN="chirurgico, geriatria, igiene, epidemiologia e sanità pubbli
 ca, malattie dell’apparato respiratorio, medicina fisica e riabilitazion
 e, medicina generale (medici di famiglia), medicina interna, organizzazion
 e dei servizi sanitari di base.";ROLE=REQ-PARTICIPANT:chirurgico, geriatri
 a, igiene, epidemiologia e sanità pubblica, malattie dell’apparato resp
 iratorio, medicina fisica e riabilitazione, medicina generale (medici di f
 amiglia), medicina interna, organizzazione dei servizi sanitari di base.
CATEGORIES:seminario
CONTACT:Gabriella Corazza\, 051 658 4893\, direzione.sater@ausl.bologna.it
CREATED;VALUE=DATE-TIME:20120917T123729Z
DESCRIPTION:Dalle esperienze in corso alle nuove prospettive dell’Assist
 enza Territoriale per il malato cronico e l’anziano fragile.\nSono dispo
 nibili le presentazioni delle relazioni nella sezione indicata al fondo pa
 gina
LAST-MODIFIED;VALUE=DATE-TIME:20121115T110019Z
LOCATION:Bologna\, Relais Bellaria
URL:https://www.ausl.bologna.it/eventi/archivio/auslevent.2012-09-17.98321
 76345
END:VEVENT
END:VCALENDAR
