BEGIN:VCALENDAR
VERSION:2.0
PRODID:-//Plone.org//NONSGML plone.app.event//EN
X-WR-TIMEZONE:Europe/Rome
BEGIN:VEVENT
SUMMARY:La sanità tra ragione e passione
DTSTART;VALUE=DATE-TIME:20121214T090000Z
DTEND;VALUE=DATE-TIME:20121214T170000Z
DTSTAMP;VALUE=DATE-TIME:20260421T011615Z
UID:301b24a57e0163b2c5bfcba4828e7c7b@127.0.0.1:8095
CATEGORIES:Convegno
CONTACT:Leila Mattar\, 051 5277405\, eventisanita@regione.emilia-romagna.i
 t
CREATED;VALUE=DATE-TIME:20120917T140633Z
DESCRIPTION:Da Alessandro Liberati\, sei lezioni per i prossimi anni
LAST-MODIFIED;VALUE=DATE-TIME:20121219T095626Z
LOCATION:Bologna\, Istituto Ortopedico Rizzoli Centro di Ricerca Codivilla
  - Putti\, Sala Anfiteatro\, via di Barbiano\, 1/10
URL:https://www.ausl.bologna.it/eventi/archivio/auslevent.2012-09-17.47160
 98119
END:VEVENT
END:VCALENDAR
