BEGIN:VCALENDAR
VERSION:2.0
PRODID:-//Plone.org//NONSGML plone.app.event//EN
X-WR-TIMEZONE:Europe/Rome
BEGIN:VEVENT
SUMMARY:Patologie dolorose osteoarticolari e qualità di vita
DTSTART;VALUE=DATE-TIME:20121006T064500Z
DTEND;VALUE=DATE-TIME:20121006T133000Z
DTSTAMP;VALUE=DATE-TIME:20260421T011223Z
UID:9cedc987a497efd2155ab7e5bf44bdcb@127.0.0.1:8095
CATEGORIES:Aggiornamento
CONTACT:Diapo Eventi\, 06/99330860 - 089/791420\, info@diapoeventi.it
CREATED;VALUE=DATE-TIME:20120913T131901Z
LAST-MODIFIED;VALUE=DATE-TIME:20121115T110018Z
LOCATION:Bologna\, Relais Bellaria Hotel\, via Altura 11/bis
URL:https://www.ausl.bologna.it/eventi/archivio/auslevent.2012-09-13.73516
 52246
END:VEVENT
END:VCALENDAR
