BEGIN:VCALENDAR
VERSION:2.0
PRODID:-//Plone.org//NONSGML plone.app.event//EN
X-WR-TIMEZONE:Europe/Rome
BEGIN:VEVENT
SUMMARY:Benessere e divertimento\, 30 SETTEMBRE Centro Sportivo Lame
DTSTART;VALUE=DATE-TIME:20120930T060000Z
DTEND;VALUE=DATE-TIME:20120930T200000Z
DTSTAMP;VALUE=DATE-TIME:20260420T093436Z
UID:dbb1aa11e2c0b2932ccb8f0cad2c87bd@127.0.0.1:8095
CATEGORIES:Festa
CONTACT:Circolo Ravone\, 051 3172982\, circolo.ravone@ausl.bologna.it
CREATED;VALUE=DATE-TIME:20120912T093857Z
DESCRIPTION:IV Memorial Roberto Ragazzi
LAST-MODIFIED;VALUE=DATE-TIME:20121115T110018Z
LOCATION:Bologna\, Centro Sportivo Lame
URL:https://www.ausl.bologna.it/eventi/archivio/auslevent.2012-09-12.63607
 86217
END:VEVENT
END:VCALENDAR
