BEGIN:VCALENDAR
VERSION:2.0
PRODID:-//Plone.org//NONSGML plone.app.event//EN
X-WR-TIMEZONE:Europe/Rome
BEGIN:VEVENT
SUMMARY:Demenza. Le prospettive future
DTSTART;VALUE=DATE-TIME:20120922T063000Z
DTEND;VALUE=DATE-TIME:20120922T140000Z
DTSTAMP;VALUE=DATE-TIME:20260421T013040Z
UID:50f24c1eb70cdb2ac3945b7114b89961@127.0.0.1:8095
ATTENDEE;CN="Sono stati richiesti i crediti ECM per le seguenti figure pro
 fessionali:";ROLE=REQ-PARTICIPANT:Sono stati richiesti i crediti ECM per l
 e seguenti figure professionali:
ATTENDEE;CN="medici (geriatria, neurologia, psichiatria, medicina interna,
  medicina";ROLE=REQ-PARTICIPANT:medici (geriatria, neurologia, psichiatria
 , medicina interna, medicina
ATTENDEE;CN="generale, continuità assistenziale); psicologi; infermieri; 
 fisioterapisti, tecnici ortopedici.";ROLE=REQ-PARTICIPANT:generale, contin
 uità assistenziale); psicologi; infermieri; fisioterapisti, tecnici ortop
 edici.
ATTENDEE;CN="Accreditamento per assistenti sociali";ROLE=REQ-PARTICIPANT:A
 ccreditamento per assistenti sociali
CATEGORIES:Convegno
CONTACT:MOMEDA EVENTI\, 051 5876729\, info@momedaeventi.com
CREATED;VALUE=DATE-TIME:20120911T062736Z
DESCRIPTION:Convegno (ECM)
LAST-MODIFIED;VALUE=DATE-TIME:20121115T110012Z
LOCATION:Bologna\, Oratorio San Filippo Neri
URL:https://www.ausl.bologna.it/eventi/archivio/auslevent.2012-09-11.39898
 12654
END:VEVENT
END:VCALENDAR
